BEGIN:VCALENDAR
VERSION:2.0
PRODID:-//Altstadt Biergarten Berching - ECPv6.15.20//NONSGML v1.0//EN
CALSCALE:GREGORIAN
METHOD:PUBLISH
X-ORIGINAL-URL:https://altstadt-biergarten.de
X-WR-CALDESC:Veranstaltungen für Altstadt Biergarten Berching
REFRESH-INTERVAL;VALUE=DURATION:PT1H
X-Robots-Tag:noindex
X-PUBLISHED-TTL:PT1H
BEGIN:VTIMEZONE
TZID:Europe/Helsinki
BEGIN:DAYLIGHT
TZOFFSETFROM:+0200
TZOFFSETTO:+0300
TZNAME:EEST
DTSTART:20230326T010000
END:DAYLIGHT
BEGIN:STANDARD
TZOFFSETFROM:+0300
TZOFFSETTO:+0200
TZNAME:EET
DTSTART:20231029T010000
END:STANDARD
BEGIN:DAYLIGHT
TZOFFSETFROM:+0200
TZOFFSETTO:+0300
TZNAME:EEST
DTSTART:20240331T010000
END:DAYLIGHT
BEGIN:STANDARD
TZOFFSETFROM:+0300
TZOFFSETTO:+0200
TZNAME:EET
DTSTART:20241027T010000
END:STANDARD
BEGIN:DAYLIGHT
TZOFFSETFROM:+0200
TZOFFSETTO:+0300
TZNAME:EEST
DTSTART:20250330T010000
END:DAYLIGHT
BEGIN:STANDARD
TZOFFSETFROM:+0300
TZOFFSETTO:+0200
TZNAME:EET
DTSTART:20251026T010000
END:STANDARD
END:VTIMEZONE
BEGIN:VEVENT
DTSTART;TZID=Europe/Helsinki:20240921T170000
DTEND;TZID=Europe/Helsinki:20240921T223000
DTSTAMP:20260421T094753
CREATED:20240825T222918Z
LAST-MODIFIED:20240825T223013Z
UID:275-1726938000-1726957800@altstadt-biergarten.de
SUMMARY:WEINFEST mit Live-Musik
DESCRIPTION:Feiern und genießen Sie mit uns im A L T S T A D T – B I E R G A R T E N!Wir servieren Fränkischen Federweißer\, Fränkische Weine und leckere Schmankerl
URL:https://altstadt-biergarten.de/event/weinfest-mit-live-musik/
LOCATION:Altstadt-Biergarten\, Hubstraße 4\, Berching\, Bayern\, 92334\, Deutschland
ATTACH;FMTTYPE=image/jpeg:https://altstadt-biergarten.de/wp-content/uploads/2024/08/weinfest-24.jpg
END:VEVENT
END:VCALENDAR