BEGIN:VCALENDAR
VERSION:2.0
PRODID:-//Altstadt Biergarten Berching - ECPv6.15.20//NONSGML v1.0//EN
CALSCALE:GREGORIAN
METHOD:PUBLISH
X-ORIGINAL-URL:https://altstadt-biergarten.de
X-WR-CALDESC:Veranstaltungen für Altstadt Biergarten Berching
REFRESH-INTERVAL;VALUE=DURATION:PT1H
X-Robots-Tag:noindex
X-PUBLISHED-TTL:PT1H
BEGIN:VTIMEZONE
TZID:Europe/Paris
BEGIN:DAYLIGHT
TZOFFSETFROM:+0100
TZOFFSETTO:+0200
TZNAME:CEST
DTSTART:20230326T010000
END:DAYLIGHT
BEGIN:STANDARD
TZOFFSETFROM:+0200
TZOFFSETTO:+0100
TZNAME:CET
DTSTART:20231029T010000
END:STANDARD
BEGIN:DAYLIGHT
TZOFFSETFROM:+0100
TZOFFSETTO:+0200
TZNAME:CEST
DTSTART:20240331T010000
END:DAYLIGHT
BEGIN:STANDARD
TZOFFSETFROM:+0200
TZOFFSETTO:+0100
TZNAME:CET
DTSTART:20241027T010000
END:STANDARD
BEGIN:DAYLIGHT
TZOFFSETFROM:+0100
TZOFFSETTO:+0200
TZNAME:CEST
DTSTART:20250330T010000
END:DAYLIGHT
BEGIN:STANDARD
TZOFFSETFROM:+0200
TZOFFSETTO:+0100
TZNAME:CET
DTSTART:20251026T010000
END:STANDARD
END:VTIMEZONE
BEGIN:VEVENT
DTSTART;TZID=Europe/Paris:20240329T110000
DTEND;TZID=Europe/Paris:20240329T140000
DTSTAMP:20260423T113409
CREATED:20240303T084215Z
LAST-MODIFIED:20260323T111516Z
UID:242-1711710000-1711720800@altstadt-biergarten.de
SUMMARY:Steckerlfisch am Karfreitag
DESCRIPTION:Steckerlfisch über Holzkohle gegrillt\, nur bei uns im Altstadt Biergarten.
URL:https://altstadt-biergarten.de/event/steckerlfisch-am-karfreitag/
ATTACH;FMTTYPE=image/webp:https://altstadt-biergarten.de/wp-content/uploads/2024/03/steckerlfisch.webp
END:VEVENT
END:VCALENDAR