BEGIN:VCALENDAR
VERSION:2.0
PRODID:-//Altstadt Biergarten Berching - ECPv6.15.20//NONSGML v1.0//EN
CALSCALE:GREGORIAN
METHOD:PUBLISH
X-WR-CALNAME:Altstadt Biergarten Berching
X-ORIGINAL-URL:https://altstadt-biergarten.de
X-WR-CALDESC:Veranstaltungen für Altstadt Biergarten Berching
REFRESH-INTERVAL;VALUE=DURATION:PT1H
X-Robots-Tag:noindex
X-PUBLISHED-TTL:PT1H
BEGIN:VTIMEZONE
TZID:Europe/Helsinki
BEGIN:DAYLIGHT
TZOFFSETFROM:+0200
TZOFFSETTO:+0300
TZNAME:EEST
DTSTART:20230326T010000
END:DAYLIGHT
BEGIN:STANDARD
TZOFFSETFROM:+0300
TZOFFSETTO:+0200
TZNAME:EET
DTSTART:20231029T010000
END:STANDARD
BEGIN:DAYLIGHT
TZOFFSETFROM:+0200
TZOFFSETTO:+0300
TZNAME:EEST
DTSTART:20240331T010000
END:DAYLIGHT
BEGIN:STANDARD
TZOFFSETFROM:+0300
TZOFFSETTO:+0200
TZNAME:EET
DTSTART:20241027T010000
END:STANDARD
BEGIN:DAYLIGHT
TZOFFSETFROM:+0200
TZOFFSETTO:+0300
TZNAME:EEST
DTSTART:20250330T010000
END:DAYLIGHT
BEGIN:STANDARD
TZOFFSETFROM:+0300
TZOFFSETTO:+0200
TZNAME:EET
DTSTART:20251026T010000
END:STANDARD
END:VTIMEZONE
BEGIN:VEVENT
DTSTART;TZID=Europe/Helsinki:20240622T180000
DTEND;TZID=Europe/Helsinki:20240628T210000
DTSTAMP:20260421T153618
CREATED:20240620T072643Z
LAST-MODIFIED:20240620T072849Z
UID:268-1719079200-1719608400@altstadt-biergarten.de
SUMMARY:BRATWURSTWOCHE
DESCRIPTION:Eröffnung am Samstag um 18 Uhr mit dem traditionellen Bieranstich durch unseren ersten Bürgermeister Ludwig Eisenreich. \n  \nFür zünftige Musik sorgt Charlie mit seinen Egerländer Freunden. \nTäglich ab 12 Uhr verwöhnen wir Sie mit einer Auswahl köstlicher Bratwürste aus Berching und Franken. \nJosef März und sein Team freuen sich auf Ihr Kommen!
URL:https://altstadt-biergarten.de/event/bratwurstwoche/
ATTACH;FMTTYPE=image/jpeg:https://altstadt-biergarten.de/wp-content/uploads/2024/06/bratwurstwoche.jpg
END:VEVENT
END:VCALENDAR